BEGIN:VCALENDAR
VERSION:2.0
CALSCALE:GREGORIAN
PRODID:-//Diputació de Barcelona//DibaCMS//EN
BEGIN:VEVENT
UID:22305
DTSTAMP:20260424T162354
DTSTART:20231217T100000
DTEND:20231217T100000
SUMMARY:Trial 4x4 solidari
LOCATION:Circuit del Serral de la Verdolaga 08755 Castellbisbal
METHOD:PUBLISH
X-WR-CALNAME:comunicacio@castellbisbal.cat
X-WR-TIMEZONE:Europe/Madrid
DESCRIPTION:De 10.00 a 14.00 hores, al Serral de la Verdolaga

URI:https://www.castellbisbal.cat/actualitat/agenda/22305-trial-4x4-solidari.html
CLASS:PUBLIC
END:VEVENT
END:VCALENDAR
