BEGIN:VCALENDAR
VERSION:2.0
CALSCALE:GREGORIAN
PRODID:-//Diputació de Barcelona//DibaCMS//EN
BEGIN:VEVENT
UID:22306
DTSTAMP:20260423T222932
DTSTART:20231217T120000
DTEND:20231217T120000
SUMMARY:Cantada d'havaneres
LOCATION:Plaça de l'Església 1 08755 Castellbisbal
METHOD:PUBLISH
X-WR-CALNAME:comunicacio@castellbisbal.cat
X-WR-TIMEZONE:Europe/Madrid
DESCRIPTION:A les 12.00 hores, a l'Església de Sant Vicenç

URI:https://www.castellbisbal.cat/actualitat/agenda/22306-cantada-dhavaneres.html
CLASS:PUBLIC
END:VEVENT
END:VCALENDAR
