BEGIN:VCALENDAR
VERSION:2.0
CALSCALE:GREGORIAN
PRODID:-//Diputació de Barcelona//DibaCMS//EN
BEGIN:VEVENT
UID:22307
DTSTAMP:20260425T012700
DTSTART:20231224T103000
DTEND:20231224T103000
SUMMARY:Zambombá
LOCATION:Plaça de l'Església 08755 Castellbisbal
METHOD:PUBLISH
X-WR-CALNAME:comunicacio@castellbisbal.cat
X-WR-TIMEZONE:Europe/Madrid
DESCRIPTION:A les 10.30 hores, al Pati de l'Esbarjo

URI:https://www.castellbisbal.cat/actualitat/agenda/22307-zambomba.html
CLASS:PUBLIC
END:VEVENT
END:VCALENDAR
