BEGIN:VCALENDAR
VERSION:2.0
CALSCALE:GREGORIAN
PRODID:-//Diputació de Barcelona//DibaCMS//EN
BEGIN:VEVENT
UID:22310
DTSTAMP:20260424T111938
DTSTART:20231219T083000
DTEND:20231219T083000
SUMMARY:Inscripcions cursos de català. Torn preferent
LOCATION:Av. de Pau Casals 9 08755 Castellbisbal
METHOD:PUBLISH
X-WR-CALNAME:comunicacio@castellbisbal.cat
X-WR-TIMEZONE:Europe/Madrid
DESCRIPTION:Mati i tarda, a l'Oficina de Català de Castellbisbal

URI:https://www.castellbisbal.cat/actualitat/agenda/inscripcions-cursos-de-catala-torn-preferent.html
CLASS:PUBLIC
END:VEVENT
END:VCALENDAR
