BEGIN:VCALENDAR
VERSION:2.0
CALSCALE:GREGORIAN
PRODID:-//Diputació de Barcelona//DibaCMS//EN
BEGIN:VEVENT
UID:22318
DTSTAMP:20260420T112759
DTSTART:20231212T083000
DTEND:20231212T093000
SUMMARY:Junta de Govern Local
LOCATION:Sala Alcaldia 
METHOD:PUBLISH
X-WR-CALNAME:comunicacio@castellbisbal.cat
X-WR-TIMEZONE:Europe/Madrid
DESCRIPTION:
URI:https://www.castellbisbal.cat/ajuntament/govern/3631-agenda-institucional/junta-de-govern-local.html
CLASS:PUBLIC
END:VEVENT
END:VCALENDAR
