BEGIN:VCALENDAR
VERSION:2.0
CALSCALE:GREGORIAN
PRODID:-//Diputació de Barcelona//DibaCMS//EN
BEGIN:VEVENT
UID:22329
DTSTAMP:20260423T111722
DTSTART:20240114T180000
DTEND:20240114T180000
SUMMARY:Ball de la gent gran
LOCATION:Av. de Pau Casals, 9 08755 Castellbisbal
METHOD:PUBLISH
X-WR-CALNAME:comunicacio@castellbisbal.cat
X-WR-TIMEZONE:Europe/Madrid
DESCRIPTION:ACTIVITAT SUSPESA

URI:https://www.castellbisbal.cat/actualitat/agenda/22329-ball-de-la-gent-gran.html
CLASS:PUBLIC
END:VEVENT
END:VCALENDAR
