BEGIN:VCALENDAR
VERSION:2.0
CALSCALE:GREGORIAN
PRODID:-//Diputació de Barcelona//DibaCMS//EN
BEGIN:VEVENT
UID:22356
DTSTAMP:20260424T063507
DTSTART:20231217T103000
DTEND:20231217T201500
SUMMARY:Copa Catalana de Korfbal 2024
LOCATION:C. Agricultura, s/n 08755 Castellbisbal
METHOD:PUBLISH
X-WR-CALNAME:comunicacio@castellbisbal.cat
X-WR-TIMEZONE:Europe/Madrid
DESCRIPTION:A partir de les 10.30 hores, a l'Illa Esportiva

URI:https://www.castellbisbal.cat/actualitat/agenda/22356-copa-catalana-de-korfbal-2024.html
CLASS:PUBLIC
END:VEVENT
END:VCALENDAR
