BEGIN:VCALENDAR
VERSION:2.0
CALSCALE:GREGORIAN
PRODID:-//Diputació de Barcelona//DibaCMS//EN
BEGIN:VEVENT
UID:22357
DTSTAMP:20260424T192349
DTSTART:20231215T190000
DTEND:20231215T190000
SUMMARY:Visita del Pare Noel
LOCATION:Plaça Albereda, 1 08755 Castellbisbal
METHOD:PUBLISH
X-WR-CALNAME:comunicacio@castellbisbal.cat
X-WR-TIMEZONE:Europe/Madrid
DESCRIPTION:A les 19.00 hores, a la plaça de l'Albareda de Can Costa

URI:https://www.castellbisbal.cat/actualitat/agenda/visita-del-pare-noel.html
CLASS:PUBLIC
END:VEVENT
END:VCALENDAR
