BEGIN:VCALENDAR
VERSION:2.0
CALSCALE:GREGORIAN
PRODID:-//Diputació de Barcelona//DibaCMS//EN
BEGIN:VEVENT
UID:22360
DTSTAMP:20260423T093803
DTSTART:20231228T163000
DTEND:20231228T163000
SUMMARY:Parada Reial a Can Santeugini
LOCATION:Carrer Montjuic, 14-20 08755 Castellbisbal
METHOD:PUBLISH
X-WR-CALNAME:comunicacio@castellbisbal.cat
X-WR-TIMEZONE:Europe/Madrid
DESCRIPTION:De 16.30 a 18.30 hores, al centre cívic de Can Santeugini

URI:https://www.castellbisbal.cat/actualitat/agenda/parada-reial-a-can-santeugini.html
CLASS:PUBLIC
END:VEVENT
END:VCALENDAR
