BEGIN:VCALENDAR
VERSION:2.0
CALSCALE:GREGORIAN
PRODID:-//Diputació de Barcelona//DibaCMS//EN
BEGIN:VEVENT
UID:22361
DTSTAMP:20260424T171237
DTSTART:20231228T190000
DTEND:20231228T190000
SUMMARY:Parada Reial a Costablanca
LOCATION:Passeig del Torrent, 18-22 08755 Castellbisbal
METHOD:PUBLISH
X-WR-CALNAME:comunicacio@castellbisbal.cat
X-WR-TIMEZONE:Europe/Madrid
DESCRIPTION:De 19.00 a 21.00 hores, al local social de Costablanca

URI:https://www.castellbisbal.cat/actualitat/agenda/parada-reial-a-costablanca.html
CLASS:PUBLIC
END:VEVENT
END:VCALENDAR
