BEGIN:VCALENDAR
VERSION:2.0
CALSCALE:GREGORIAN
PRODID:-//Diputació de Barcelona//DibaCMS//EN
BEGIN:VEVENT
UID:22362
DTSTAMP:20260423T162151
DTSTART:20231229T163000
DTEND:20231229T163000
SUMMARY:Parada Reial a Can Campanyà
LOCATION:Avinguda Gayarre, 47 08755 Castellbisbal
METHOD:PUBLISH
X-WR-CALNAME:comunicacio@castellbisbal.cat
X-WR-TIMEZONE:Europe/Madrid
DESCRIPTION:De 16.30 a 18.30 hores, al local social de Can Campanyà

URI:https://www.castellbisbal.cat/actualitat/agenda/parada-reial-a-can-campanya.html
CLASS:PUBLIC
END:VEVENT
END:VCALENDAR
