BEGIN:VCALENDAR
VERSION:2.0
CALSCALE:GREGORIAN
PRODID:-//Diputació de Barcelona//DibaCMS//EN
BEGIN:VEVENT
UID:22363
DTSTAMP:20260423T111453
DTSTART:20231229T190000
DTEND:20231229T190000
SUMMARY:Parada Reial a Can Costa
LOCATION:
METHOD:PUBLISH
X-WR-CALNAME:comunicacio@castellbisbal.cat
X-WR-TIMEZONE:Europe/Madrid
DESCRIPTION:De 19.00 a 21.00 hores, al camp de futbol de Can Costa

URI:https://www.castellbisbal.cat/actualitat/agenda/parada-reial-a-can-costa.html
CLASS:PUBLIC
END:VEVENT
END:VCALENDAR
