BEGIN:VCALENDAR
VERSION:2.0
CALSCALE:GREGORIAN
PRODID:-//Diputació de Barcelona//DibaCMS//EN
BEGIN:VEVENT
UID:22364
DTSTAMP:20260424T134406
DTSTART:20240105T180000
DTEND:20240105T180000
SUMMARY:Cavalcada de Reis
LOCATION:
METHOD:PUBLISH
X-WR-CALNAME:comunicacio@castellbisbal.cat
X-WR-TIMEZONE:Europe/Madrid
DESCRIPTION:Sortida a les 18.00 hores, des de la rotonda 1 d'Octubre (carrer de l'Olivar)

URI:https://www.castellbisbal.cat/actualitat/agenda/cavalcada-de-reis.html
CLASS:PUBLIC
END:VEVENT
END:VCALENDAR
