BEGIN:VCALENDAR
VERSION:2.0
CALSCALE:GREGORIAN
PRODID:-//Diputació de Barcelona//DibaCMS//EN
BEGIN:VEVENT
UID:22369
DTSTAMP:20260424T205208
DTSTART:20231222T160000
DTEND:20231222T160000
SUMMARY:Tió de Nadal
LOCATION:Carrer Montjuic, 14-20 08755 Castellbisbal
METHOD:PUBLISH
X-WR-CALNAME:comunicacio@castellbisbal.cat
X-WR-TIMEZONE:Europe/Madrid
DESCRIPTION:De 16.00 a 21.00 hores, al centre cívic de Can Santeugini

URI:https://www.castellbisbal.cat/actualitat/agenda/22369-tio-de-nadal.html
CLASS:PUBLIC
END:VEVENT
END:VCALENDAR
