BEGIN:VCALENDAR
VERSION:2.0
CALSCALE:GREGORIAN
PRODID:-//Diputació de Barcelona//DibaCMS//EN
BEGIN:VEVENT
UID:22370
DTSTAMP:20260423T110048
DTSTART:20231231T200000
DTEND:20240101T040000
SUMMARY:Sopar de Cap d'Any
LOCATION:Carrer Montjuic, 14-20 08755 Castellbisbal
METHOD:PUBLISH
X-WR-CALNAME:comunicacio@castellbisbal.cat
X-WR-TIMEZONE:Europe/Madrid
DESCRIPTION:A partir de les 20.00 hores, al centre cívic de Can Santeugini

URI:https://www.castellbisbal.cat/actualitat/agenda/sopar-de-cap-dany.html
CLASS:PUBLIC
END:VEVENT
END:VCALENDAR
