BEGIN:VCALENDAR
VERSION:2.0
CALSCALE:GREGORIAN
PRODID:-//Diputació de Barcelona//DibaCMS//EN
BEGIN:VEVENT
UID:22375
DTSTAMP:20260424T203204
DTSTART:20240103T103000
DTEND:20240103T203000
SUMMARY:Campament Reial
LOCATION:08755 Castellbisbal
METHOD:PUBLISH
X-WR-CALNAME:comunicacio@castellbisbal.cat
X-WR-TIMEZONE:Europe/Madrid
DESCRIPTION:Matí i tarda, als Jardins de Can Margarit

URI:https://www.castellbisbal.cat/actualitat/agenda/22375-campament-reial.html
CLASS:PUBLIC
END:VEVENT
END:VCALENDAR
