BEGIN:VCALENDAR
VERSION:2.0
CALSCALE:GREGORIAN
PRODID:-//Diputació de Barcelona//DibaCMS//EN
BEGIN:VEVENT
UID:22393
DTSTAMP:20260424T023854
DTSTART:20240119T210000
DTEND:20240119T210000
SUMMARY:Concert de Conjunts i Jam Session
LOCATION:Av. de Pau Casals 7 08755 Castellbisbal
METHOD:PUBLISH
X-WR-CALNAME:comunicacio@castellbisbal.cat
X-WR-TIMEZONE:Europe/Madrid
DESCRIPTION:A les 21.00 hores, al bar del Casal Cultural i Recreatiu

URI:https://www.castellbisbal.cat/actualitat/agenda/festa-major-de-sant-vicenc/22393-concert-de-conjunts-i-jam-session.html
CLASS:PUBLIC
END:VEVENT
END:VCALENDAR
