BEGIN:VCALENDAR
VERSION:2.0
CALSCALE:GREGORIAN
PRODID:-//Diputació de Barcelona//DibaCMS//EN
BEGIN:VEVENT
UID:22395
DTSTAMP:20260423T100056
DTSTART:20240119T203000
DTEND:20240119T203000
SUMMARY:Inici tabalada
LOCATION:
METHOD:PUBLISH
X-WR-CALNAME:comunicacio@castellbisbal.cat
X-WR-TIMEZONE:Europe/Madrid
DESCRIPTION:ACTIVITAT ANUL·LADA

URI:https://www.castellbisbal.cat/actualitat/agenda/festa-major-de-sant-vicenc/22395-inici-tabalada.html
CLASS:PUBLIC
END:VEVENT
END:VCALENDAR
