BEGIN:VCALENDAR
VERSION:2.0
CALSCALE:GREGORIAN
PRODID:-//Diputació de Barcelona//DibaCMS//EN
BEGIN:VEVENT
UID:22396
DTSTAMP:20260423T132301
DTSTART:20240119T210000
DTEND:20240119T210000
SUMMARY:Inici del Correfoc
LOCATION:Plaça de Lluís Companys 08755 Castellbisbal
METHOD:PUBLISH
X-WR-CALNAME:comunicacio@castellbisbal.cat
X-WR-TIMEZONE:Europe/Madrid
DESCRIPTION:ACTIVITAT ANUL·LADA

URI:https://www.castellbisbal.cat/actualitat/agenda/festa-major-de-sant-vicenc/22396-inici-del-correfoc.html
CLASS:PUBLIC
END:VEVENT
END:VCALENDAR
