BEGIN:VCALENDAR
VERSION:2.0
CALSCALE:GREGORIAN
PRODID:-//Diputació de Barcelona//DibaCMS//EN
BEGIN:VEVENT
UID:22397
DTSTAMP:20260423T174700
DTSTART:20240119T213000
DTEND:20240119T213000
SUMMARY:Espectacle de foc
LOCATION:08755 Castellbisbal
METHOD:PUBLISH
X-WR-CALNAME:comunicacio@castellbisbal.cat
X-WR-TIMEZONE:Europe/Madrid
DESCRIPTION:ACTIVITAT ANUL·LADA

URI:https://www.castellbisbal.cat/actualitat/agenda/festa-major-de-sant-vicenc/22397-espectacle-de-foc.html
CLASS:PUBLIC
END:VEVENT
END:VCALENDAR
