BEGIN:VCALENDAR
VERSION:2.0
CALSCALE:GREGORIAN
PRODID:-//Diputació de Barcelona//DibaCMS//EN
BEGIN:VEVENT
UID:22398
DTSTAMP:20260424T180251
DTSTART:20240119T233000
DTEND:20240119T233000
SUMMARY:Nit amb DJ
LOCATION:Av. de Pau Casals 7 08755 Castellbisbal
METHOD:PUBLISH
X-WR-CALNAME:comunicacio@castellbisbal.cat
X-WR-TIMEZONE:Europe/Madrid
DESCRIPTION:A les 23.30 hores, al Casal Cultural i Recreatiu

URI:https://www.castellbisbal.cat/actualitat/agenda/festa-major-de-sant-vicenc/22398-nit-amb-dj.html
CLASS:PUBLIC
END:VEVENT
END:VCALENDAR
