BEGIN:VCALENDAR
VERSION:2.0
CALSCALE:GREGORIAN
PRODID:-//Diputació de Barcelona//DibaCMS//EN
BEGIN:VEVENT
UID:22406
DTSTAMP:20260424T202542
DTSTART:20240111T190000
DTEND:20240111T190000
SUMMARY:Conferència: Josep Maria Espinàs, un home de fer feines
LOCATION:Avinguda Pau Casals, 16 08755 Castellbisbal
METHOD:PUBLISH
X-WR-CALNAME:comunicacio@castellbisbal.cat
X-WR-TIMEZONE:Europe/Madrid
DESCRIPTION:A les 19.00 hores, a l'Espai Montserrat Roig d'Els Costals

URI:https://www.castellbisbal.cat/actualitat/agenda/conferencia-josep-maria-espinas-un-home-de-fer-feines.html
CLASS:PUBLIC
END:VEVENT
END:VCALENDAR
