BEGIN:VCALENDAR
VERSION:2.0
CALSCALE:GREGORIAN
PRODID:-//Diputació de Barcelona//DibaCMS//EN
BEGIN:VEVENT
UID:22407
DTSTAMP:20260423T130432
DTSTART:20240120T100000
DTEND:20240120T100000
SUMMARY:Torneig de tennis infantil del pernil
LOCATION:C. Agricultura, s/n 08755 Castellbisbal
METHOD:PUBLISH
X-WR-CALNAME:comunicacio@castellbisbal.cat
X-WR-TIMEZONE:Europe/Madrid
DESCRIPTION:A les 10.00 hores, a les pistes de tennis de l'Illa Esportiva

URI:https://www.castellbisbal.cat/actualitat/agenda/festa-major-de-sant-vicenc/torneigdetennisinfantildelpernil.html
CLASS:PUBLIC
END:VEVENT
END:VCALENDAR
