BEGIN:VCALENDAR
VERSION:2.0
CALSCALE:GREGORIAN
PRODID:-//Diputació de Barcelona//DibaCMS//EN
BEGIN:VEVENT
UID:22408
DTSTAMP:20260423T163021
DTSTART:20240120T110000
DTEND:20240120T110000
SUMMARY:Arrels! Tallers familiars
LOCATION:Avinguda Pau Casals, 16 08755 Castellbisbal
METHOD:PUBLISH
X-WR-CALNAME:comunicacio@castellbisbal.cat
X-WR-TIMEZONE:Europe/Madrid
DESCRIPTION:A les 11.00 hores, a l'Espai Montserrat Roig

URI:https://www.castellbisbal.cat/actualitat/agenda/festa-major-de-sant-vicenc/arrels-tallers-familiars.html
CLASS:PUBLIC
END:VEVENT
END:VCALENDAR
