BEGIN:VCALENDAR
VERSION:2.0
CALSCALE:GREGORIAN
PRODID:-//Diputació de Barcelona//DibaCMS//EN
BEGIN:VEVENT
UID:22410
DTSTAMP:20260423T162908
DTSTART:20240120T133000
DTEND:20240120T133000
SUMMARY:Per Sant Vicenç, la calçotada que volem!
LOCATION:Plaça de l'Església 08755 Castellbisbal
METHOD:PUBLISH
X-WR-CALNAME:comunicacio@castellbisbal.cat
X-WR-TIMEZONE:Europe/Madrid
DESCRIPTION:A les 13.30 hores, al Pati de l'Esbarjo

URI:https://www.castellbisbal.cat/actualitat/agenda/festa-major-de-sant-vicenc/22410-per-sant-vicenc-la-calcotada-que-volem.html
CLASS:PUBLIC
END:VEVENT
END:VCALENDAR
