BEGIN:VCALENDAR
VERSION:2.0
CALSCALE:GREGORIAN
PRODID:-//Diputació de Barcelona//DibaCMS//EN
BEGIN:VEVENT
UID:22411
DTSTAMP:20260424T222541
DTSTART:20240120T163000
DTEND:20240120T163000
SUMMARY:Quinto musical
LOCATION:Plaça de l'Església 08755 Castellbisbal
METHOD:PUBLISH
X-WR-CALNAME:comunicacio@castellbisbal.cat
X-WR-TIMEZONE:Europe/Madrid
DESCRIPTION:A les 16.30 hores, al Pati de l'Esbarjo

URI:https://www.castellbisbal.cat/actualitat/agenda/festa-major-de-sant-vicenc/22411-quinto-musical.html
CLASS:PUBLIC
END:VEVENT
END:VCALENDAR
