BEGIN:VCALENDAR
VERSION:2.0
CALSCALE:GREGORIAN
PRODID:-//Diputació de Barcelona//DibaCMS//EN
BEGIN:VEVENT
UID:22412
DTSTAMP:20260424T011609
DTSTART:20240120T170000
DTEND:20240120T170000
SUMMARY:Torneig de petanca
LOCATION:C. Agricultura, s/n 08755 Castellbisbal
METHOD:PUBLISH
X-WR-CALNAME:comunicacio@castellbisbal.cat
X-WR-TIMEZONE:Europe/Madrid
DESCRIPTION:A les 17.00 hores, a les pistes de petanca de l'Illa Esportiva

URI:https://www.castellbisbal.cat/actualitat/agenda/festa-major-de-sant-vicenc/22412-torneig-de-petanca.html
CLASS:PUBLIC
END:VEVENT
END:VCALENDAR
