BEGIN:VCALENDAR
VERSION:2.0
CALSCALE:GREGORIAN
PRODID:-//Diputació de Barcelona//DibaCMS//EN
BEGIN:VEVENT
UID:22413
DTSTAMP:20260424T203811
DTSTART:20240120T170000
DTEND:20240120T170000
SUMMARY:Rol al foier
LOCATION:Avinguda Pau Casals, 16 08755 Castellbisbal
METHOD:PUBLISH
X-WR-CALNAME:comunicacio@castellbisbal.cat
X-WR-TIMEZONE:Europe/Madrid
DESCRIPTION:A les 17.00 hores, a l'Espai Montserrat Roig

URI:https://www.castellbisbal.cat/actualitat/agenda/festa-major-de-sant-vicenc/rol-al-foier.html
CLASS:PUBLIC
END:VEVENT
END:VCALENDAR
