BEGIN:VCALENDAR
VERSION:2.0
CALSCALE:GREGORIAN
PRODID:-//Diputació de Barcelona//DibaCMS//EN
BEGIN:VEVENT
UID:22414
DTSTAMP:20260424T232750
DTSTART:20240120T174500
DTEND:20240120T174500
SUMMARY:Passada dels gegants
LOCATION:Plaça del Joc 08755 Castellbisbal
METHOD:PUBLISH
X-WR-CALNAME:comunicacio@castellbisbal.cat
X-WR-TIMEZONE:Europe/Madrid
DESCRIPTION:A les 17.45 hores, a la plaça del Joc

URI:https://www.castellbisbal.cat/actualitat/agenda/festa-major-de-sant-vicenc/22414-passada-dels-gegants.html
CLASS:PUBLIC
END:VEVENT
END:VCALENDAR
