BEGIN:VCALENDAR
VERSION:2.0
CALSCALE:GREGORIAN
PRODID:-//Diputació de Barcelona//DibaCMS//EN
BEGIN:VEVENT
UID:22416
DTSTAMP:20260424T220248
DTSTART:20240120T183000
DTEND:20240120T183000
SUMMARY:Continuació de la passada
LOCATION:Plaça del Joc 08755 Castellbisbal
METHOD:PUBLISH
X-WR-CALNAME:comunicacio@castellbisbal.cat
X-WR-TIMEZONE:Europe/Madrid
DESCRIPTION:A les 18.30 hores, a la Plaça de l'Església

URI:https://www.castellbisbal.cat/actualitat/agenda/festa-major-de-sant-vicenc/22416-continuacio-de-la-passada.html
CLASS:PUBLIC
END:VEVENT
END:VCALENDAR
