BEGIN:VCALENDAR
VERSION:2.0
CALSCALE:GREGORIAN
PRODID:-//Diputació de Barcelona//DibaCMS//EN
BEGIN:VEVENT
UID:22417
DTSTAMP:20260425T033923
DTSTART:20240120T184500
DTEND:20240120T184500
SUMMARY:Tabalada
LOCATION:08755 Castellbisbal
METHOD:PUBLISH
X-WR-CALNAME:comunicacio@castellbisbal.cat
X-WR-TIMEZONE:Europe/Madrid
DESCRIPTION:A les 18.45 hores, a la Plaça de l'Església

URI:https://www.castellbisbal.cat/actualitat/agenda/festa-major-de-sant-vicenc/tabalada.html
CLASS:PUBLIC
END:VEVENT
END:VCALENDAR
