BEGIN:VCALENDAR
VERSION:2.0
CALSCALE:GREGORIAN
PRODID:-//Diputació de Barcelona//DibaCMS//EN
BEGIN:VEVENT
UID:22418
DTSTAMP:20260425T005830
DTSTART:20240120T190000
DTEND:20240120T190000
SUMMARY:Presentació de la nova bèstia de foc
LOCATION:08755 Castellbisbal
METHOD:PUBLISH
X-WR-CALNAME:comunicacio@castellbisbal.cat
X-WR-TIMEZONE:Europe/Madrid
DESCRIPTION:A les 19.00 hores, a la Plaça de l'Església

URI:https://www.castellbisbal.cat/actualitat/agenda/festa-major-de-sant-vicenc/presentacio-de-la-nova-bestia-de-foc.html
CLASS:PUBLIC
END:VEVENT
END:VCALENDAR
