BEGIN:VCALENDAR
VERSION:2.0
CALSCALE:GREGORIAN
PRODID:-//Diputació de Barcelona//DibaCMS//EN
BEGIN:VEVENT
UID:22420
DTSTAMP:20260425T004024
DTSTART:20240120T204500
DTEND:20240120T204500
SUMMARY:Final de l'empaitafoc
LOCATION:08755 Castellbisbal
METHOD:PUBLISH
X-WR-CALNAME:comunicacio@castellbisbal.cat
X-WR-TIMEZONE:Europe/Madrid
DESCRIPTION:A les 20.45 hores, a la Plaça de l'Església

URI:https://www.castellbisbal.cat/actualitat/agenda/festa-major-de-sant-vicenc/final-de-lempaitafoc.html
CLASS:PUBLIC
END:VEVENT
END:VCALENDAR
