BEGIN:VCALENDAR
VERSION:2.0
CALSCALE:GREGORIAN
PRODID:-//Diputació de Barcelona//DibaCMS//EN
BEGIN:VEVENT
UID:22421
DTSTAMP:20260425T053052
DTSTART:20240120T203000
DTEND:20240120T203000
SUMMARY:Festival d'hivern de la Casa de Andalucía
LOCATION:Av. de Pau Casals 7 08755 Castellbisbal
METHOD:PUBLISH
X-WR-CALNAME:comunicacio@castellbisbal.cat
X-WR-TIMEZONE:Europe/Madrid
DESCRIPTION:A les 20.30 hores, al Casal Cultural i Recreatiu

URI:https://www.castellbisbal.cat/actualitat/agenda/festa-major-de-sant-vicenc/22421-festival-dhivern-de-la-casa-de-andalucia.html
CLASS:PUBLIC
END:VEVENT
END:VCALENDAR
