BEGIN:VCALENDAR
VERSION:2.0
CALSCALE:GREGORIAN
PRODID:-//Diputació de Barcelona//DibaCMS//EN
BEGIN:VEVENT
UID:22422
DTSTAMP:20260425T053728
DTSTART:20240120T203000
DTEND:20240120T203000
SUMMARY:EsbravaTTSS
LOCATION:Plaça del Joc 08755 Castellbisbal
METHOD:PUBLISH
X-WR-CALNAME:comunicacio@castellbisbal.cat
X-WR-TIMEZONE:Europe/Madrid
DESCRIPTION:A les 20.30 hores, a la plaça del Joc

URI:https://www.castellbisbal.cat/actualitat/agenda/festa-major-de-sant-vicenc/esbravattss.html
CLASS:PUBLIC
END:VEVENT
END:VCALENDAR
