BEGIN:VCALENDAR
VERSION:2.0
CALSCALE:GREGORIAN
PRODID:-//Diputació de Barcelona//DibaCMS//EN
BEGIN:VEVENT
UID:22425
DTSTAMP:20260424T222251
DTSTART:20240121T090000
DTEND:20240121T090000
SUMMARY:Botifarrada de Festa Major
LOCATION:Plaça de l'Església 08755 Castellbisbal
METHOD:PUBLISH
X-WR-CALNAME:comunicacio@castellbisbal.cat
X-WR-TIMEZONE:Europe/Madrid
DESCRIPTION:A les 9.00 hores, al pati de l'Esbarjo (nova ubicació)

URI:https://www.castellbisbal.cat/actualitat/agenda/festa-major-de-sant-vicenc/22425-botifarrada-de-festa-major.html
CLASS:PUBLIC
END:VEVENT
END:VCALENDAR
