BEGIN:VCALENDAR
VERSION:2.0
CALSCALE:GREGORIAN
PRODID:-//Diputació de Barcelona//DibaCMS//EN
BEGIN:VEVENT
UID:22426
DTSTAMP:20260424T185824
DTSTART:20240121T090000
DTEND:20240121T090000
SUMMARY:Torneig de tennis del pernil
LOCATION:C. Agricultura, s/n 08755 Castellbisbal
METHOD:PUBLISH
X-WR-CALNAME:comunicacio@castellbisbal.cat
X-WR-TIMEZONE:Europe/Madrid
DESCRIPTION:A les 9.00 hores, a les pistes de tennis de l'Illa Esportiva

URI:https://www.castellbisbal.cat/actualitat/agenda/festa-major-de-sant-vicenc/22426-torneig-de-tennis-del-pernil.html
CLASS:PUBLIC
END:VEVENT
END:VCALENDAR
