BEGIN:VCALENDAR
VERSION:2.0
CALSCALE:GREGORIAN
PRODID:-//Diputació de Barcelona//DibaCMS//EN
BEGIN:VEVENT
UID:22427
DTSTAMP:20260424T202019
DTSTART:20240121T103000
DTEND:20240121T103000
SUMMARY:Plantada de gegants
LOCATION:Avinguda Gaudí 08755 Castellbisbal
METHOD:PUBLISH
X-WR-CALNAME:comunicacio@castellbisbal.cat
X-WR-TIMEZONE:Europe/Madrid
DESCRIPTION:A les 10.30 hores, a La Bassa

URI:https://www.castellbisbal.cat/actualitat/agenda/festa-major-de-sant-vicenc/22427-plantada-de-gegants.html
CLASS:PUBLIC
END:VEVENT
END:VCALENDAR
