BEGIN:VCALENDAR
VERSION:2.0
CALSCALE:GREGORIAN
PRODID:-//Diputació de Barcelona//DibaCMS//EN
BEGIN:VEVENT
UID:22428
DTSTAMP:20260424T154119
DTSTART:20240121T113000
DTEND:20240121T113000
SUMMARY:33a Trobada de Gegants i 30è aniversari de la colla i dels gegants Manel i Vicenta
LOCATION:Avinguda Gaudí 08755 Castellbisbal
METHOD:PUBLISH
X-WR-CALNAME:comunicacio@castellbisbal.cat
X-WR-TIMEZONE:Europe/Madrid
DESCRIPTION:A les 10.30 hores, a La Bassa

URI:https://www.castellbisbal.cat/actualitat/agenda/festa-major-de-sant-vicenc/33a-trobada-de-gegants-i-30e-aniversari-de-la-colla-i-dels-gegants-manel-i-vicenta.html
CLASS:PUBLIC
END:VEVENT
END:VCALENDAR
