BEGIN:VCALENDAR
VERSION:2.0
CALSCALE:GREGORIAN
PRODID:-//Diputació de Barcelona//DibaCMS//EN
BEGIN:VEVENT
UID:22430
DTSTAMP:20260425T002522
DTSTART:20240121T130000
DTEND:20240121T130000
SUMMARY:Balls i esclat final de festa
LOCATION:08755 Castellbisbal
METHOD:PUBLISH
X-WR-CALNAME:comunicacio@castellbisbal.cat
X-WR-TIMEZONE:Europe/Madrid
DESCRIPTION:A les 13.00 hores, a la Plaça de l'Església

URI:https://www.castellbisbal.cat/actualitat/agenda/festa-major-de-sant-vicenc/22430-balls-i-esclat-final-de-festa.html
CLASS:PUBLIC
END:VEVENT
END:VCALENDAR
