BEGIN:VCALENDAR
VERSION:2.0
CALSCALE:GREGORIAN
PRODID:-//Diputació de Barcelona//DibaCMS//EN
BEGIN:VEVENT
UID:22435
DTSTAMP:20260424T220954
DTSTART:20240121T190000
DTEND:20240121T190000
SUMMARY:Teatre de Festa Major: "Vesteix-te per sopar"
LOCATION:Av. de Pau Casals, 16 08755 Castellbisbal
METHOD:PUBLISH
X-WR-CALNAME:comunicacio@castellbisbal.cat
X-WR-TIMEZONE:Europe/Madrid
DESCRIPTION:A les 19.00 hores, a l'Auditori d'Els Costals

URI:https://www.castellbisbal.cat/actualitat/agenda/festa-major-de-sant-vicenc/teatre-de-festa-major-vesteix-te-per-sopar.html
CLASS:PUBLIC
END:VEVENT
END:VCALENDAR
