BEGIN:VCALENDAR
VERSION:2.0
CALSCALE:GREGORIAN
PRODID:-//Diputació de Barcelona//DibaCMS//EN
BEGIN:VEVENT
UID:22437
DTSTAMP:20260425T024156
DTSTART:20240122T110000
DTEND:20240122T110000
SUMMARY:Missa d'ofici
LOCATION:Plaça de l'Església 1 08755 Castellbisbal
METHOD:PUBLISH
X-WR-CALNAME:comunicacio@castellbisbal.cat
X-WR-TIMEZONE:Europe/Madrid
DESCRIPTION:A les 11.00 hores, a l'Església de Sant Vicenç

URI:https://www.castellbisbal.cat/actualitat/agenda/festa-major-de-sant-vicenc/22437-missa-dofici.html
CLASS:PUBLIC
END:VEVENT
END:VCALENDAR
