BEGIN:VCALENDAR
VERSION:2.0
CALSCALE:GREGORIAN
PRODID:-//Diputació de Barcelona//DibaCMS//EN
BEGIN:VEVENT
UID:22442
DTSTAMP:20260423T095839
DTSTART:20240105T180000
DTEND:20240105T180000
SUMMARY:Racó Jove: Temps de Reis al Racó
LOCATION:Carrer Francesc Macià, 64 08755 Castellbisbal
METHOD:PUBLISH
X-WR-CALNAME:comunicacio@castellbisbal.cat
X-WR-TIMEZONE:Europe/Madrid
DESCRIPTION:A les 18.00 hores, al Racó Jove

URI:https://www.castellbisbal.cat/actualitat/agenda/raco-jove-temps-de-reis-al-raco.html
CLASS:PUBLIC
END:VEVENT
END:VCALENDAR
