BEGIN:VCALENDAR
VERSION:2.0
CALSCALE:GREGORIAN
PRODID:-//Diputació de Barcelona//DibaCMS//EN
BEGIN:VEVENT
UID:22446
DTSTAMP:20260423T184411
DTSTART:20240116T180000
DTEND:20240116T180000
SUMMARY:Racó Jove: Emissió del curtmetratge "Lorenzo y el cazo"
LOCATION:Carrer Francesc Macià, 64 08755 Castellbisbal
METHOD:PUBLISH
X-WR-CALNAME:comunicacio@castellbisbal.cat
X-WR-TIMEZONE:Europe/Madrid
DESCRIPTION:A les 18.00 hores, al Racó Jove

URI:https://www.castellbisbal.cat/actualitat/agenda/raco-jove-emissio-del-curtmetratge-lorenzo-y-el-cazo.html
CLASS:PUBLIC
END:VEVENT
END:VCALENDAR
