BEGIN:VCALENDAR
VERSION:2.0
CALSCALE:GREGORIAN
PRODID:-//Diputació de Barcelona//DibaCMS//EN
BEGIN:VEVENT
UID:22452
DTSTAMP:20260424T053030
DTSTART:20240201T190000
DTEND:20240201T190000
SUMMARY:Conferència: Com cuidar el cervell. Podem prevenir el deteriorament cognitiu?
LOCATION:Avinguda Pau Casals, 16 08755 Castellbisbal
METHOD:PUBLISH
X-WR-CALNAME:comunicacio@castellbisbal.cat
X-WR-TIMEZONE:Europe/Madrid
DESCRIPTION:A les 19.00 hores, a l'Espai Montserrat Roig d'Els Costals

URI:https://www.castellbisbal.cat/actualitat/agenda/conferencia-com-cuidar-el-cervell-podem-prevenir-el-deteriorament-cognitiu.html
CLASS:PUBLIC
END:VEVENT
END:VCALENDAR
