BEGIN:VCALENDAR
VERSION:2.0
CALSCALE:GREGORIAN
PRODID:-//Diputació de Barcelona//DibaCMS//EN
BEGIN:VEVENT
UID:22453
DTSTAMP:20260425T040012
DTSTART:20240215T190000
DTEND:20240215T190000
SUMMARY:Conferència: L'expedició de Sir John Franklin. La gran tragèdia de l'exploració àrtica
LOCATION:Avinguda Pau Casals, 16 08755 Castellbisbal
METHOD:PUBLISH
X-WR-CALNAME:comunicacio@castellbisbal.cat
X-WR-TIMEZONE:Europe/Madrid
DESCRIPTION:A les 19.00 hores, a l'Espai Montserrat Roig d'Els Costals

URI:https://www.castellbisbal.cat/actualitat/agenda/conferencia-lexpedicio-de-sir-john-franklin-la-gran-tragedia-de-lexploracio-artica.html
CLASS:PUBLIC
END:VEVENT
END:VCALENDAR
