BEGIN:VCALENDAR
VERSION:2.0
CALSCALE:GREGORIAN
PRODID:-//Diputació de Barcelona//DibaCMS//EN
BEGIN:VEVENT
UID:22454
DTSTAMP:20260423T202533
DTSTART:20240308T100000
DTEND:20240308T100000
SUMMARY:Taula rodona: Les dones en procés de recerca de feina
LOCATION:Avinguda Pau Casals, 16 08755 Castellbisbal
METHOD:PUBLISH
X-WR-CALNAME:comunicacio@castellbisbal.cat
X-WR-TIMEZONE:Europe/Madrid
DESCRIPTION:A les 10.00 hores, a l'Espai Montserrat Roig d'Els Costals

URI:https://www.castellbisbal.cat/actualitat/agenda/taula-rodona-les-dones-en-proces-de-recerca-de-feina.html
CLASS:PUBLIC
END:VEVENT
END:VCALENDAR
