BEGIN:VCALENDAR
VERSION:2.0
CALSCALE:GREGORIAN
PRODID:-//Diputació de Barcelona//DibaCMS//EN
BEGIN:VEVENT
UID:22470
DTSTAMP:20260425T021708
DTSTART:20240219T090000
DTEND:20240301T140000
SUMMARY:Curs d'Excel. Nivell mitjà
LOCATION:Pau Casals, 9 08755 Castellbisbal
METHOD:PUBLISH
X-WR-CALNAME:comunicacio@castellbisbal.cat
X-WR-TIMEZONE:Europe/Madrid
DESCRIPTION:Del 19 de febrer a l'1 de març, a l'Aula multimèdia d'Els Costals

URI:https://www.castellbisbal.cat/actualitat/agenda/22470-curs-dexcel-nivell-mitja.html
CLASS:PUBLIC
END:VEVENT
END:VCALENDAR
