BEGIN:VCALENDAR
VERSION:2.0
CALSCALE:GREGORIAN
PRODID:-//Diputació de Barcelona//DibaCMS//EN
BEGIN:VEVENT
UID:22479
DTSTAMP:20260424T145002
DTSTART:20240224T120000
DTEND:20240224T120000
SUMMARY:Hora del conte: "Maixa i l'os"
LOCATION:Av. de Pau Casals, 16 08755 Castellbisbal
METHOD:PUBLISH
X-WR-CALNAME:comunicacio@castellbisbal.cat
X-WR-TIMEZONE:Europe/Madrid
DESCRIPTION:A les 12.00 hores, a la Biblioteca Josep Mateu i Miró

URI:https://www.castellbisbal.cat/actualitat/agenda/biblioteca/22479-hora-del-conte-maixa-i-los.html
CLASS:PUBLIC
END:VEVENT
END:VCALENDAR
