BEGIN:VCALENDAR
VERSION:2.0
CALSCALE:GREGORIAN
PRODID:-//Diputació de Barcelona//DibaCMS//EN
BEGIN:VEVENT
UID:22481
DTSTAMP:20260425T045442
DTSTART:20240221T000000
DTEND:20240229T203000
SUMMARY:Exposició: "Orgànica"
LOCATION:Av. de Pau Casals, 16 08755 Castellbisbal
METHOD:PUBLISH
X-WR-CALNAME:comunicacio@castellbisbal.cat
X-WR-TIMEZONE:Europe/Madrid
DESCRIPTION:Del 21 al 29 de febrer, a la Biblioteca Josep Mateu i Miró

URI:https://www.castellbisbal.cat/actualitat/agenda/biblioteca/exposicio-organica.html
CLASS:PUBLIC
END:VEVENT
END:VCALENDAR
